{"text_format":"1","workbook":"xlsx","n_sheets":3,"sheets":["申込書","記載例","品目一覧"],"not_rendered":{"charts":0,"images":0,"macros":1,"external_links":0,"defined_names":4,"comments":0,"pivot_tables":0},"unopened":[],"bounds":{"document_bytes":16777216,"sheet_cells":100000,"rows_first":2000,"rows_last":500,"rows_between":2000,"halvings":0,"cell_chars":16384,"cell_head_chars":4096},"cells_cut":0,"cells_raw":0,"read":"whole","date_system":"1900"}

{"sheet":"申込書","index":0,"n_rows":149,"n_cols":12,"rows_kept":149,"cut":false,"hidden":false,"merged":[[98,8,98,11],[99,8,99,11],[100,8,100,11],[101,8,101,11],[83,8,83,11],[102,8,102,11],[103,8,103,11],[104,8,104,11],[105,8,105,11],[87,8,87,11],[86,8,86,11],[85,8,85,11],[84,8,84,11],[89,8,89,11],[90,8,90,11],[97,8,97,11],[93,8,93,11],[94,8,94,11],[95,8,95,11],[96,8,96,11],[146,8,146,11],[117,8,117,11],[118,8,118,11],[119,8,119,11],[120,8,120,11],[121,8,121,11],[122,8,122,11],[123,8,123,11],[106,8,106,11],[107,8,107,11],[108,8,108,11],[109,8,109,11],[110,8,110,11],[111,8,111,11],[112,8,112,11],[113,8,113,11],[114,8,114,11],[142,8,142,11],[143,8,143,11],[144,8,144,11],[145,8,145,11],[147,8,147,11],[148,8,148,11],[4,0,5,1],[4,2,5,11],[133,8,133,11],[134,8,134,11],[135,8,135,11],[136,8,136,11],[137,8,137,11],[138,8,138,11],[139,8,139,11],[140,8,140,11],[141,8,141,11],[124,8,124,11],[125,8,125,11],[126,8,126,11],[127,8,127,11],[128,8,128,11],[129,8,129,11],[130,8,130,11],[131,8,131,11],[132,8,132,11],[115,8,115,11],[116,8,116,11],[0,10,0,11],[2,2,2,11],[7,2,7,3],[9,2,10,3],[6,2,6,3],[1,0,1,11],[9,4,10,5],[9,7,10,7],[2,0,2,1],[6,0,7,1],[9,8,10,8],[3,0,3,1],[3,2,3,11],[9,1,10,1],[6,4,6,8],[6,10,6,11],[7,10,7,11],[7,4,7,8],[9,0,10,0],[9,9,10,11],[37,2,37,5],[38,2,38,5],[39,2,39,5],[35,0,35,11],[14,9,14,11],[25,9,25,11],[91,8,91,11],[92,8,92,11],[88,8,88,11],[31,8,34,11],[38,11,39,11],[31,0,31,6],[33,0,33,6],[32,0,32,6],[22,9,22,11],[19,9,19,11],[34,0,34,6],[24,9,24,11],[27,9,27,11],[23,9,23,11],[15,9,15,11],[16,9,16,11],[20,9,20,11],[21,9,21,11],[12,9,12,11],[11,9,11,11],[13,9,13,11],[18,9,18,11],[17,9,17,11],[69,8,69,11],[70,8,70,11],[9,6,10,6],[38,9,39,9],[41,8,41,11],[42,8,42,11],[43,8,43,11],[44,8,44,11],[26,9,26,11],[29,9,29,11],[30,9,30,11],[38,10,39,10],[28,9,28,11],[52,8,52,11],[73,8,73,11],[55,8,55,11],[56,8,56,11],[57,8,57,11],[58,8,58,11],[59,8,59,11],[60,8,60,11],[61,8,61,11],[63,8,63,11],[64,8,64,11],[62,8,62,11],[74,8,74,11],[75,8,75,11],[76,8,76,11],[77,8,77,11],[83,2,83,3],[83,4,83,5],[41,2,41,3],[41,4,41,5],[78,8,78,11],[45,8,45,11],[46,8,46,11],[47,8,47,11],[48,8,48,11],[49,8,49,11],[50,8,50,11],[51,8,51,11],[53,8,53,11],[54,8,54,11],[65,8,65,11],[66,8,66,11],[67,8,67,11],[68,8,68,11],[71,8,71,11],[72,8,72,11]]}
[null,null,null,null,null,null,null,null,null,"申込日：",{"$f":"TODAY()","v":"2022-07-12"}]
["インテックス大阪　附属設備・レンタル手配品　利用申込書"]
["展示館利用日"]
["催事名称"]
["開催展示館"]
[]
["お申込者",null,"所在地",null,"〒",null,null,null,null,"担当者"]
[null,null,"会社名",null,null,null,null,null,null,"TEL"]
[]
["種別","品目","ご利用数",null,"ご利用期間",null,"単価(円）\n(税込)","料金(円）\n(税込)","利用可能\n場所","利用日・配置ご希望場所・条件等"]
[]
[null,null,null,{"$f":"IF($B12=\"\",\"\",VLOOKUP($B12,$B$43:$G$149,3,0))","v":""},null,{"$f":"IF($B12=\"\",\"\",VLOOKUP($B12,$B$43:$G$149,5,0))","v":""},{"$f":"IF($B12=\"\",\"\",VLOOKUP($B12,$B$43:$G$149,6,0))","v":""},{"$f":"IF(OR($B12=\"\",C12=\"\",E12=\"\"),\"\",IF(AND(B12=\"A11.非接触型検温計（5台目より1台3,000円）\",C12>4),C12*E12*G12-((C12-4)*1000),C12*E12*G12))","v":""},{"$f":"IF($B12=\"\",\"\",VLOOKUP($B12,$B$43:$H$149,7,0))","v":""}]
[null,null,null,"",null,"","",{"$f":"IF(OR($B13=\"\",C13=\"\",E13=\"\"),\"\",IF(AND(B13=\"A11.非接触型検温計（5台目より1台3,000円）\",C13>4),C13*E13*G13-((C13-4)*1000),C13*E13*G13))","v":""},""]
[null,null,null,"",null,"","","",""]
[null,null,null,"",null,"","",{"$f":"IF(OR($B15=\"\",C15=\"\",E15=\"\"),\"\",IF(AND(B15=\"A11.非接触型検温計（5台目より1台3,000円）\",C15>4),C15*E15*G15-((C15-4)*1000),C15*E15*G15))","v":""},""]
[null,null,null,"",null,"","","",""]
[null,null,null,"",null,"","","",""]
[null,null,null,"",null,"","","",""]
[null,null,null,"",null,"","","",""]
[null,null,null,"",null,"","","",""]
[null,null,null,"",null,"","",{"$f":"IF(OR($B21=\"\",C21=\"\",E21=\"\"),\"\",IF(AND(B21=\"A11.非接触型検温計（5台目より1台3,000円）\",C21>4),C21*E21*G21-((C21-4)*1000),C21*E21*G21))","v":""},""]
[null,null,null,"",null,"","","",""]
[null,null,null,"",null,"","","",""]
[null,null,null,"",null,"","","",""]
[null,null,null,"",null,"","","",""]
[null,null,null,"",null,"","",{"$f":"IF(OR($B26=\"\",C26=\"\",E26=\"\"),\"\",IF(AND(B26=\"A11.非接触型検温計（5台目より1台3,000円）\",C26>4),C26*E26*G26-((C26-4)*1000),C26*E26*G26))","v":""},""]
[null,null,null,"",null,"","","",""]
[null,null,null,"",null,"","","",""]
[null,null,null,"",null,"","","",""]
[null,null,null,"",null,"","","",""]
[null,null,null,"",null,"","","",""]
["【種別A】　備品利用料　小計",null,null,null,null,null,null,{"$f":"IF(SUMIF($B$12:$B$31,\"A*\",$H$12:$H$31)=0,\"\",SUMIF($B$12:$B$31,\"A*\",$H$12:$H$31))","v":""},"【その他・特記事項等】\n"]
["【種別B】　備品利用料　小計",null,null,null,null,null,null,{"$f":"IF(SUMIF($B$12:$B$31,\"B*\",$H$12:$H$31)=0,\"\",SUMIF($B$12:$B$31,\"B*\",$H$12:$H$31))","v":""}]
["【種別B】　移動等費用　小計　※別途お見積もり"]
["合計",null,null,null,null,null,null,{"$f":"IF(AND(H32=\"\",H33=\"\",H34=\"\"),\"\",SUM(H32,H33,H34))","v":""}]
["　　注）　紛失(盗難含む)・故意又は過失による破損が発生した場合、その用品の新品購入費用等実費の請求をさせていただきます。"]
["※インテックス大阪使用欄",null,null,null,null,null,null,null,null,"運営管理課","防災C記入欄"]
[null,"【種別A】 　お借入れ時確認　ご署名：　",null,null,null,null,null,null,null,"／","引継","検収"]
[null,"【種別A】　　　ご返却時確認　ご署名："]
[null,"【種別A】　 追加お借入れ時　ご署名："]
["【種別A】　附属設備　品目一覧"]
["種別","品目","数量単位",null,"日数単位",null,"単価(円）\n（税込）","利用可能\n場所","仕様・備考"]
["A","A01.可搬型音響設備",1,"式",1,"日",16500,"ﾎｰﾙH","マイク3本、スピーカーセット含む"]
["A","A02.ダイナミックマイク(有線)",1,"本",1,"日",2200,"展示館\n会議室"]
["A","A03.ワイヤレスマイク(無線)",1,"本",1,"日",3850,"展示館\n会議室","展示館は各館2本まで"]
["A","A04.ピンマイク",1,"本",1,"日",3850,"展示館\n会議室"]
["A","A05.ポータブル拡声装置",1,"台",1,"日",6600,"展示館\n会議室","マイク2本付"]
["A","A06.バトン",1,"本",1,"日",1210,"5A・プラザ\n国際会議H","W8,500・耐荷重150kg"]
["A","A07.西ゲートチケットボックス",1,"ヵ所",1,"日",7150,"西ゲート","3席/1ヵ所×2ヵ所"]
["A","A08.東ゲートチケットボックス",1,"ヵ所",1,"日",7150,"東ゲート","3席/1ヵ所×2ヵ所"]
["A","A09.屋上駐車場チケットボックス",1,"ヵ所",1,"日",7150,"屋上駐車場","3席/1ヵ所"]
["A","A10.旗ポール（西ゲート）",1,"本",1,"日",2200,"西ゲート","北側8本"]
["A","A11.バナーポール",1,"本",1,"日",5500,"西ゲート"]
["A","A12.非接触型検温計（5台目より1台3,000円）",1,"台",1,"催事",4000,"展示館\n会議室"]
["A","A13.音響設備(国際会議H)",1,"式",1,"日",12100,"国際会議H"]
["A","A14.音響設備(会議室C・F、ﾎｰﾙG)",1,"式",1,"日",6600,"会議室C・F\nﾎｰﾙG"]
["A","A15.リモート操作卓(インテックスプラザ)",1,"台",1,"日",6600,"プラザ"]
["A","A16.プロジェクター 3300lm（移動型）",1,"台",1,"日",11000,"展示館\n会議室"]
["A","A17.プロジェクター 4200lm（移動型）",1,"台",1,"日",27500,"展示館\n会議室"]
["A","A18.プロジェクター 3400lm（短焦点型）",1,"台",1,"日",22000,"展示館\n会議室"]
["A","A19.スクリーン（100インチスタンド型）",1,"台",1,"日",2200,"会議室"]
["A","A20.ステージ(1,200×2,400×400)",1,"台",1,"日",1210,"国際会議H\nホールG"]
["A","A21.ミスト扇風機",1,"台",1,"日",3850,"展示館\n共用部","5台（寸法：740×525×1660～1865）\n基本的には手動給水となります。"]
["A","A22.マイクスタンド（卓上用）",1,"台",1,"日",0,"会議室"]
["A","A23.マイクスタンド（自立型）",1,"台",1,"日",0,"会議室"]
["A","A24.司会台（W650×D450×H950）",1,"台",1,"日",0,"会議室"]
["A","A25.講演台（W650×D470×H1,020）",1,"台",1,"日",0,"会議室"]
["A","A26.手元灯り（卓上簡易スタンド）",1,"台",1,"日",0,"会議室"]
["A","A27.レーザーポインター",1,"本",1,"日",0,"会議室"]
["A","A28.ﾌﾟﾛｼﾞｪｸﾀｰ接続ｹｰﾌﾞﾙ(VGA)",1,"本",1,"日",0,"会議室"]
["A","A29.ﾌﾟﾛｼﾞｪｸﾀｰ接続ｹｰﾌﾞﾙ(HDMI)",1,"本",1,"日",0,"会議室","(オス⇔オス)D-sub15"]
["A","A30.ＨＤＭＩ⇔ＶＧＡ変換アダプター",1,"台",1,"日",0,"会議室"]
["A","A31.音声出力ケーブル（ＰＣから）",1,"本",1,"日",0,"会議室","PCからHDMI出力し、5mを超える場合必要です。"]
["A","A32.延長電源コード（電工ドラム）",1,"台",1,"日",0,"会議室"]
["A","A33.プロジェクター台",1,"台",1,"日",0,"会議室"]
["A","A34.自立式案内看板",1,"台",1,"日",0,"会議室"]
["A","A35.共用部 壁・柱コンセント",1,"ヵ所",1,"日",1650,"共用部"]
["A","A36.共用部 分電盤内空き回路",1,"ヵ所",1,"日",1650,"共用部"]
["A","A37.共用部 屋外散水栓",1,"ヵ所",1,"日",1650,"共用部"]
["【種別B】　レンタル手配品　品目一覧"]
[null,"※1催事は7日間以内のご利用料金です。8日を超えてご利用の場合は以降7日ごとに同額が加算されます"]
[null,"※別途移動費用等がかかります。手配の手続き上、利用開始日の2週間前までにご提出ください。"]
[null,"※在庫欄に記載の数量以上をご用意することも可能ですのでご相談ください。"]
["種別","品目","数量単位",null,"日数単位",null,"単価(円）\n（税込）","利用可能\n場所","仕様・備考"]
["B","B01.会議用テーブル（木目）(W1800*D450*H700)",1,"台",1,"催事",840,"展示館\n会議室","荷物棚なし、1台車24台\n在庫：1250台"]
["B","B02.パイプ椅子",1,"脚",1,"催事",220,"展示館\n会議室","W455*D437、座面ダークグレイ、1台車100脚\n在庫：2500台"]
["B","B03.ホワイトボード",1,"台",1,"催事",5300,"展示館\n会議室","W1900*H1830\n在庫：45台"]
["B","B04.パーテーション ",1," 台 ",1,"催事",3160,"展示館\n会議室","W1200*H1800\n在庫：32台"]
["B","B05.ラウンドテーブル（φ600*H600）",1," 台 ",1,"催事",4400,"展示館\n会議室"]
["B","B06.ラウンドテーブル（φ600*H700）",1,"台",1,"催事",7150,"展示館\n会議室"]
["B","B07.ラウンドテーブル（φ600*H1000）",1,"台",1,"催事",7150,"展示館\n会議室"]
["B","B08.ラウンドテーブル（φ750*H600）",1,"台",1,"催事",4400,"展示館\n会議室"]
["B","B09.ラウンドテーブル（φ750*H700）",1," 台 ",1,"催事",7150,"展示館\n会議室"]
["B","B10.ラウンドテーブル（φ750*H1000）",1," 台 ",1,"催事",9350,"展示館\n会議室"]
["B","B11.ラウンドテーブル（φ900*H600）",1,"台",1,"催事",4950,"展示館\n会議室"]
["B","B12.ラウンドテーブル（φ900*H700）",1,"台",1,"催事",7150,"展示館\n会議室"]
["B","B13.ラウンドテーブル（φ900*H1000）",1,"台",1,"催事",9350,"展示館\n会議室"]
["B","B14.会議用テーブル(白)(W1500*D600*H695)",1,"台",1,"催事",3520,"展示館\n会議室"]
["B","B15.会議用テーブル(白)(W1800*D600*H695)",1,"台",1,"催事",3520,"展示館\n会議室"]
["B","B16.会議用テーブル（木目）(W1500*D600*H695)",1,"枚",1,"催事",2200,"展示館\n会議室"]
["B","B17.会議用テーブル（木目）(W1800*D600*H695)",1,"枚",1,"催事",2200,"展示館\n会議室"]
["B","B18.テーブルクロス",1,"枚",1,"催事",715,"展示館\n会議室","2400*1300"]
["B","B19.ハイカウンター（W1200*D505*H1000）",1,"台",1,"催事",8250,"展示館\n会議室"]
["B","B20.ハイカウンター（W1800*D505*H1000）",1,"台",1,"催事",11000,"展示館\n会議室"]
["B","B21.姿見",1,"台",1,"催事",3850,"展示館\n会議室","W430*D450*H1545"]
["B","B22.卓上鏡",1,"個",1,"催事",2200,"展示館\n会議室","W250*D470*H470"]
["B","B23.シングルハンガー",1,"台",1,"催事",2200,"展示館\n会議室","W1050*D460*H1200～1700　"]
["B","B24.ハンガー１０本セット",1,"セット",1,"催事",1430,"展示館\n会議室"]
["B","B25.アングル棚",1,"台",1,"催事",4950,"展示館\n会議室","W900*D300*H1800"]
["B","B26.三折りパーテーション",1,"台",1,"催事",9900,"展示館\n会議室","W1806*H1800、アイボリー\n画鋲使用不可"]
["B","B27.スクリーンパーテーション",1,"台",1,"催事",4950,"展示館\n会議室","W900*H2100(ベース W100･D500)\nフェルト状クロス貼/色：グレー"]
["B","B28.扇風機",1,"台",1,"催事",9900,"展示館\n会議室","W400*D400*H1400\n電気容量：100V　100W"]
["B","B29.スポットクーラー",1,"台",1,"催事",24750,"展示館\n会議室","W430*D390*H1050（本体）\n電気容量：100V　100W"]
["B","B30.加湿器",1,"台",1,"催事",8800,"展示館\n会議室","W450*D250*H360\n電気容量：10V　44W"]
["B","B31.レインパック",1,"台",1,"催事",7150,"展示館\n会議室","W208*D238*H755"]
["B","B32.専用傘袋",1,"セット",1,"催事",6600,"展示館\n会議室","1,000枚セット"]
["B","B33.傘立て",1,"個",1,"催事",5500,"展示館\n会議室","W765*D290*H500、40人用"]
["B","B34.ゴミ箱",1,"個",1,"催事",2750,"展示館\n会議室","W430*D282*H630、42L"]
["B","B35.ゴミ袋10枚セット",1,"セット",1,"催事",176,"展示館\n会議室","45L"]
["B","B36.売薬セット",1,"個",1,"催事",27500,"展示館\n会議室"]
["B","B37.消火器",1,"個",1,"催事",2200,"展示館\n会議室","10号粉末"]
["B","B38.パネルスタンド",1,"台",1,"催事",2750,"展示館\n会議室","W300*D300*H900～1400\n取付面：150角"]
["B","B39.L POPスタンド",1,"台",1,"催事",2750,"展示館\n会議室","W500*D275*H1350～2400、\nパネルサイズ：W300～450　ｔ5、取り付け面150角"]
["B","B40.イーゼル",1,"台",1,"催事",5500,"展示館\n会議室","W480*D500*H1240、H100～820、ｔ35"]
["B","B41.鉄ウェイト",1,"個",1,"催事",1100,"展示館\n会議室","φ200*H95、18ｋg"]
["B","B42.プロジェクター   PT-D5700L",1,"台",1,"催事",132000,"展示館\n会議室","W530*H167*D429、6000lm \nAC100V単独回路 1050W 　※別途調整費\n※本番1日～3日までのご使用"]
["B","B43.プロジェクター  PT-DX100KL",1,"台",1,"催事",211200,"展示館\n会議室","W498*H200*D566、8500lm\nAC100V単独回路 1050W\n※本番1日～3日までのご使用"]
["B","B44.単焦点レンズ",1,"台",1,"催事",13200,"展示館\n会議室","※本番1日～3日までのご使用"]
["B","B45.150フロントスクリーン",1,"台",1,"催事",36607,"展示館\n会議室","W3520*H2490（ｽｸﾘｰﾝｻｲｽﾞ）　\n※本番1日～3日までのご使用"]
["B","B46.100フロントスクリーン",1,"台",1,"催事",29700,"展示館\n会議室","W2210*H1700（ｽｸﾘｰﾝｻｲｽﾞ）\n※本番1日～3日までのご使用"]
["B","B47.1800角スクリーン",1,"台",1,"催事",13750,"展示館\n会議室","三脚自立式　\n※本番1日～3日までのご使用"]
["B","B48.ラクサー",1,"台",1,"催事",8250,"展示館\n会議室","W885*D615*H1200、最大積載量：70ｋｇ\n※本番1日～3日までのご使用"]
["B","B49.カラーコピー機",1,"台",1,"催事",17600,"展示館\n会議室","※本番1日～3日までのご使用\nカウンタ料金：モノクロ￥5.5/枚　カラー￥27.5/枚\n搬入出費（調整費込み）：￥22,000 \n　 *日曜・祝日は￥44,000"]
["B","B50.モノクロコピー機",1,"台",1,"催事",14850,"展示館\n会議室","※本番1日～3日までのご使用\nカウンタ料金：モノクロ￥5.5/枚\n搬入出費（調整費込み）：￥22,000 \n *日曜・祝日は￥44,000"]
["B","B51.卓上コピー機",1,"台",1,"催事",14850,"展示館\n会議室","※本番1日～3日までのご使用\nトナー4本(6,000枚相当)\\23,100\n搬入出費（調整費込み）：￥22,000\n  *日曜・祝日は￥44,000"]
["B"]
["B"]
["B"]
["B"]
["B"]
["B"]
["B"]
["B"]
["B"]
["B"]
["B"]
["B"]
["B"]
["B"]

{"sheet":"記載例","index":1,"n_rows":40,"n_cols":12,"rows_kept":40,"cut":false,"hidden":false,"merged":[[0,10,0,11],[1,0,1,11],[2,0,2,1],[2,2,2,11],[3,0,3,1],[3,2,3,11],[4,0,5,1],[4,2,5,11],[6,0,7,1],[6,2,6,3],[7,2,7,3],[6,4,6,8],[6,10,6,11],[7,4,7,8],[7,10,7,11],[15,9,15,11],[9,0,10,0],[9,1,10,1],[9,2,10,3],[9,4,10,5],[9,7,10,7],[9,8,10,8],[9,9,10,11],[11,9,11,11],[12,9,12,11],[13,9,13,11],[14,9,14,11],[9,6,10,6],[26,9,26,11],[27,9,27,11],[16,9,16,11],[17,9,17,11],[18,9,18,11],[19,9,19,11],[20,9,20,11],[21,9,21,11],[22,9,22,11],[23,9,23,11],[24,9,24,11],[25,9,25,11],[38,9,39,9],[38,10,39,10],[38,11,39,11],[28,9,28,11],[29,9,29,11],[30,9,30,11],[35,0,35,11],[31,0,31,6],[31,8,34,11],[32,0,32,6],[33,0,33,6],[34,0,34,6]]}
[null,null,null,null,null,null,null,null,null,"申込日：","〇〇年○○月○○日"]
["インテックス大阪　附属設備・レンタル手配品　利用申込書"]
["展示館利用日",null,"〇〇〇〇年○○月○○日～〇〇〇〇年○○月○○日"]
["催事名称",null,"〇〇〇〇〇〇"]
["開催展示館"]
[]
["お申込者",null,"所在地",null,"〒〇〇〇-〇〇〇〇\n　○○市○○区○○　〇-〇-〇",null,null,null,"担当者","担当者","〇〇　〇〇"]
[null,null,"会社名",null,"〇〇〇〇〇〇株式会社",null,null,null,"TEL","TEL","〇〇-〇〇〇〇-〇〇〇〇"]
[]
["種別","品目","ご利用数",null,"ご利用期間",null,"単価(円）\n(税込)","料金(円）\n(税込)","利用可能\n場所","ご利用日・配置ご希望場所・条件等"]
[]
["A","A03.ワイヤレスマイク(無線)",2,"式",3,"日",3850,23100,"展示館\n会議室","　〇/〇から利用\n6号館C、6号館D各一本"]
["A","A05.ポータブル拡声装置",2,"台",3,"日",6600,39600,"展示館\n会議室","　〇/〇から利用\n全て6号館C事務所に配置"]
["B","B01.会議用テーブル（木目）(W1800*D450*H700)",1000,"台",1,"催事",840,840000,"展示館\n会議室","　〇/〇から利用\n6号館C、6号館D各500台"]
["B","B02.パイプ椅子",2000,"脚",1,"催事",220,440000,"展示館\n会議室","　〇/〇から利用\n6号館C、6号館D各1000脚"]
[]
[]
[]
[]
[]
[]
[]
[]
[]
[]
[]
[]
[]
[]
[]
[]
["【種別A】　備品利用料　小計",null,null,null,null,null,null,{"$f":"IF(SUMIF($B$12:$B$31,\"A*\",$H$12:$H$31)=0,\"\",SUMIF($B$12:$B$31,\"A*\",$H$12:$H$31))","v":62700},"【その他・特記事項等】\n"]
["【種別A】　備品利用料　小計",null,null,null,null,null,null,{"$f":"IF(SUMIF($B$12:$B$31,\"B*\",$H$12:$H$31)=0,\"\",SUMIF($B$12:$B$31,\"B*\",$H$12:$H$31))","v":1280000}]
["【種別B】　移動等費用　小計　※別途お見積もり"]
["合計",null,null,null,null,null,null,{"$f":"IF(AND(H32=\"\",H33=\"\",H34=\"\"),\"\",SUM(H32,H33,H34))","v":1342700}]
["　　注）　紛失(盗難含む)・故意又は過失による破損が発生した場合、その用品の新品購入費用等実費の請求をさせていただきます。"]
["※インテックス大阪使用欄",null,null,null,null,null,null,null,null,"運営管理課","防災C記入欄"]
[null,"【種別A】 　お借入れ時確認　ご署名：　",null,null,null,null,null,null,null,"／","引継","検収"]
[null,"【種別A】　　　ご返却時確認　ご署名："]
[null,"【種別A】　 追加お借入れ時　ご署名："]

{"sheet":"品目一覧","index":2,"n_rows":53,"n_cols":2,"rows_kept":53,"cut":false,"hidden":true,"merged":[]}
["A","B"]
[]
[{"$f":"申込書!B43","v":"A01.可搬型音響設備"},{"$f":"申込書!B85","v":"B01.会議用テーブル（木目）(W1800*D450*H700)"}]
[{"$f":"申込書!B44","v":"A02.ダイナミックマイク(有線)"},{"$f":"申込書!B86","v":"B02.パイプ椅子"}]
[{"$f":"申込書!B45","v":"A03.ワイヤレスマイク(無線)"},{"$f":"申込書!B87","v":"B03.ホワイトボード"}]
[{"$f":"申込書!B46","v":"A04.ピンマイク"},{"$f":"申込書!B88","v":"B04.パーテーション "}]
[{"$f":"申込書!B47","v":"A05.ポータブル拡声装置"},{"$f":"申込書!B89","v":"B05.ラウンドテーブル（φ600*H600）"}]
[{"$f":"申込書!B48","v":"A06.バトン"},{"$f":"申込書!B90","v":"B06.ラウンドテーブル（φ600*H700）"}]
[{"$f":"申込書!B49","v":"A07.西ゲートチケットボックス"},{"$f":"申込書!B91","v":"B07.ラウンドテーブル（φ600*H1000）"}]
[{"$f":"申込書!B50","v":"A08.東ゲートチケットボックス"},{"$f":"申込書!B92","v":"B08.ラウンドテーブル（φ750*H600）"}]
[{"$f":"申込書!B51","v":"A09.屋上駐車場チケットボックス"},{"$f":"申込書!B93","v":"B09.ラウンドテーブル（φ750*H700）"}]
[{"$f":"申込書!B52","v":"A10.旗ポール（西ゲート）"},{"$f":"申込書!B94","v":"B10.ラウンドテーブル（φ750*H1000）"}]
[{"$f":"申込書!B53","v":"A11.バナーポール"},{"$f":"申込書!B95","v":"B11.ラウンドテーブル（φ900*H600）"}]
[{"$f":"申込書!B54","v":"A12.非接触型検温計（5台目より1台3,000円）"},{"$f":"申込書!B96","v":"B12.ラウンドテーブル（φ900*H700）"}]
[{"$f":"申込書!B55","v":"A13.音響設備(国際会議H)"},{"$f":"申込書!B97","v":"B13.ラウンドテーブル（φ900*H1000）"}]
[{"$f":"申込書!B56","v":"A14.音響設備(会議室C・F、ﾎｰﾙG)"},{"$f":"申込書!B98","v":"B14.会議用テーブル(白)(W1500*D600*H695)"}]
[{"$f":"申込書!B57","v":"A15.リモート操作卓(インテックスプラザ)"},{"$f":"申込書!B99","v":"B15.会議用テーブル(白)(W1800*D600*H695)"}]
[{"$f":"申込書!B58","v":"A16.プロジェクター 3300lm（移動型）"},{"$f":"申込書!B100","v":"B16.会議用テーブル（木目）(W1500*D600*H695)"}]
[{"$f":"申込書!B59","v":"A17.プロジェクター 4200lm（移動型）"},{"$f":"申込書!B101","v":"B17.会議用テーブル（木目）(W1800*D600*H695)"}]
[{"$f":"申込書!B60","v":"A18.プロジェクター 3400lm（短焦点型）"},{"$f":"申込書!B102","v":"B18.テーブルクロス"}]
[{"$f":"申込書!B61","v":"A19.スクリーン（100インチスタンド型）"},{"$f":"申込書!B103","v":"B19.ハイカウンター（W1200*D505*H1000）"}]
[{"$f":"申込書!B62","v":"A20.ステージ(1,200×2,400×400)"},{"$f":"申込書!B104","v":"B20.ハイカウンター（W1800*D505*H1000）"}]
[{"$f":"申込書!B63","v":"A21.ミスト扇風機"},{"$f":"申込書!B105","v":"B21.姿見"}]
[{"$f":"申込書!B64","v":"A22.マイクスタンド（卓上用）"},{"$f":"申込書!B106","v":"B22.卓上鏡"}]
[{"$f":"申込書!B65","v":"A23.マイクスタンド（自立型）"},{"$f":"申込書!B107","v":"B23.シングルハンガー"}]
[{"$f":"申込書!B66","v":"A24.司会台（W650×D450×H950）"},{"$f":"申込書!B108","v":"B24.ハンガー１０本セット"}]
[{"$f":"申込書!B67","v":"A25.講演台（W650×D470×H1,020）"},{"$f":"申込書!B109","v":"B25.アングル棚"}]
[{"$f":"申込書!B68","v":"A26.手元灯り（卓上簡易スタンド）"},{"$f":"申込書!B110","v":"B26.三折りパーテーション"}]
[{"$f":"申込書!B69","v":"A27.レーザーポインター"},{"$f":"申込書!B111","v":"B27.スクリーンパーテーション"}]
[{"$f":"申込書!B70","v":"A28.ﾌﾟﾛｼﾞｪｸﾀｰ接続ｹｰﾌﾞﾙ(VGA)"},{"$f":"申込書!B112","v":"B28.扇風機"}]
[{"$f":"申込書!B71","v":"A29.ﾌﾟﾛｼﾞｪｸﾀｰ接続ｹｰﾌﾞﾙ(HDMI)"},{"$f":"申込書!B113","v":"B29.スポットクーラー"}]
[{"$f":"申込書!B72","v":"A30.ＨＤＭＩ⇔ＶＧＡ変換アダプター"},{"$f":"申込書!B114","v":"B30.加湿器"}]
[{"$f":"申込書!B73","v":"A31.音声出力ケーブル（ＰＣから）"},{"$f":"申込書!B115","v":"B31.レインパック"}]
[{"$f":"申込書!B74","v":"A32.延長電源コード（電工ドラム）"},{"$f":"申込書!B116","v":"B32.専用傘袋"}]
[{"$f":"申込書!B75","v":"A33.プロジェクター台"},{"$f":"申込書!B117","v":"B33.傘立て"}]
[{"$f":"申込書!B76","v":"A34.自立式案内看板"},{"$f":"申込書!B118","v":"B34.ゴミ箱"}]
[{"$f":"申込書!B77","v":"A35.共用部 壁・柱コンセント"},{"$f":"申込書!B119","v":"B35.ゴミ袋10枚セット"}]
[{"$f":"申込書!B78","v":"A36.共用部 分電盤内空き回路"},{"$f":"申込書!B120","v":"B36.売薬セット"}]
[{"$f":"申込書!B79","v":"A37.共用部 屋外散水栓"},{"$f":"申込書!B121","v":"B37.消火器"}]
[null,{"$f":"申込書!B122","v":"B38.パネルスタンド"}]
[null,{"$f":"申込書!B123","v":"B39.L POPスタンド"}]
[null,{"$f":"申込書!B124","v":"B40.イーゼル"}]
[null,{"$f":"申込書!B125","v":"B41.鉄ウェイト"}]
[null,{"$f":"申込書!B126","v":"B42.プロジェクター   PT-D5700L"}]
[null,{"$f":"申込書!B127","v":"B43.プロジェクター  PT-DX100KL"}]
[null,{"$f":"申込書!B128","v":"B44.単焦点レンズ"}]
[null,{"$f":"申込書!B129","v":"B45.150フロントスクリーン"}]
[null,{"$f":"申込書!B130","v":"B46.100フロントスクリーン"}]
[null,{"$f":"申込書!B131","v":"B47.1800角スクリーン"}]
[null,{"$f":"申込書!B132","v":"B48.ラクサー"}]
[null,{"$f":"申込書!B133","v":"B49.カラーコピー機"}]
[null,{"$f":"申込書!B134","v":"B50.モノクロコピー機"}]
[null,{"$f":"申込書!B135","v":"B51.卓上コピー機"}]